BEGIN:VCALENDAR
VERSION:2.0
PRODID:-//https://eruuf.org///NONSGML kigkonsult.se iCalcreator 2.10.15//
METHOD:PUBLISH
BEGIN:VEVENT
UID:20260423T033258UTC-5485uZUpg7@https://eruuf.org/
DTSTAMP:20260423T033258Z
DESCRIPTION:{article 2081}[text]{/article}\n https://eruuf.org/calendar/cal
 endar-view/event/5554-visioning-weekend.html
DTSTART:20181027T130011Z
DTEND:20181027T210000Z
LOCATION:ERUUF Campus   (4907 Garrett Rd\, Durham\, NC 27707    )
SUMMARY:Visioning Weekend
URL:https://eruuf.org/calendar/calendar-view/event/5554-visioning-weekend.h
 tml
END:VEVENT
END:VCALENDAR
