BEGIN:VCALENDAR
VERSION:2.0
PRODID:-//https://eruuf.org///NONSGML kigkonsult.se iCalcreator 2.10.15//
METHOD:PUBLISH
BEGIN:VEVENT
UID:20260420T234403UTC-8422WMhN9j@https://eruuf.org/
DTSTAMP:20260420T234403Z
DESCRIPTION:Creating Our Justice Ministry Story is the theme for each of tw
 o meetings – Wednesday evening\, 7:00 pm\, September 21 and Sunday\, 1:00 
 pm\, September 25. The agendas are identical\; we encourage all ERUUFians 
 to come to one session. The Plenary Session is a “Meeting of the Whole” – 
 when the entire congregation is invited to express our hopes and justice p
 riorities. It is also an opportunity for the Justice Ministry Council to d
 iscuss its new mission statement\, its implication\, and to report the min
 istry’s progress and plans for this year and beyond. We also seek your vie
 ws about current and future justice opportunities and challenges coming ou
 r way. Co-chairs Amassa Fauntleroy and Tom Fletcher pose these abiding que
 stions: How can we grow our capacity to do spiritually driven justice work
 ? What are our fundamental justice priority and our guiding strategy? How 
 can we become more inclusive by involving more ERUUFians in this Justice M
 inistry?Justice matters. Everyone has a voice. Together\, we will chart ou
 r course toward creating a world healed and transformed in which social\, 
 economic and environmental justice are universal.“Slice of the Pie” Justic
 e Ministry Pizza will be served. A goodwill donation is encouraged. Please
  sign up here and let us know which session you will attend. Contact Sam W
 ohns (SamWohns@Gmail.com) or Doug Rhodes (DougRhodes4@Gmail.com) with ques
 tions.Join us. https://eruuf.org/calendar/calendar-view/event/556-justice-
 ministry-council-plenary-session.html
DTSTART:20160925T170000Z
DTEND:20160925T190000Z
LOCATION:Fellowship Hall   ()
SUMMARY:Justice Ministry Council Plenary Session
URL:https://eruuf.org/calendar/calendar-view/event/556-justice-ministry-cou
 ncil-plenary-session.html
END:VEVENT
END:VCALENDAR
