BEGIN:VCALENDAR
VERSION:2.0
PRODID:-//https://eruuf.org///NONSGML kigkonsult.se iCalcreator 2.10.15//
METHOD:PUBLISH
BEGIN:VEVENT
UID:20260423T083700UTC-36106xJCBB@https://eruuf.org/
DTSTAMP:20260423T083700Z
DESCRIPTION:Democracy works best when all voices are heard -- reach out to 
 potential young voters\, the sick\, the elderly\, the poor and working cla
 ss! YouCanVote trains and mobilizes thousands of volunteers to share accur
 ate information about NC 2018 Midterm elections through conversations by p
 hone and in-person.\nHelp voters register\, stay-registered(!) and underst
 and their rights. What's on the ballot\, when/where to vote? What are the 
 realities of six amendments on the state constitution? How can I help vote
 rs see themselves as active voters in 2018\, 2019 and 2020? Sign up to vol
 unteer online HERE. Contact Emily Cox/Steve Franklin. https://eruuf.org/ca
 lendar/calendar-view/event/5574-you-can-vote-phone-bank.html
DTSTART:20181001T223000Z
DTEND:20181002T003000Z
LOCATION:Fellowship Hall   ()
SUMMARY:You Can Vote Phone Bank
URL:https://eruuf.org/calendar/calendar-view/event/5574-you-can-vote-phone-
 bank.html
END:VEVENT
END:VCALENDAR
