BEGIN:VCALENDAR
VERSION:2.0
PRODID:-//https://eruuf.org///NONSGML kigkonsult.se iCalcreator 2.10.15//
METHOD:PUBLISH
BEGIN:VEVENT
UID:20260422T024121UTC-4356U1IPWH@https://eruuf.org/
DTSTAMP:20260422T024121Z
DESCRIPTION:Childcare provided at this workshop only.\n{article 2081}[image
 -fulltext] [text]{/article} https://eruuf.org/calendar/calendar-view/event
 /5584-eruuf-visioning-weekend-morning-workshop.html
DTSTART:20181027T123000Z
DTEND:20181027T163000Z
LOCATION:ERUUF Campus   (4907 Garrett Rd\, Durham\, NC 27707    )
SUMMARY:ERUUF Visioning Weekend - Morning Workshop
URL:https://eruuf.org/calendar/calendar-view/event/5584-eruuf-visioning-wee
 kend-morning-workshop.html
END:VEVENT
END:VCALENDAR
