BEGIN:VCALENDAR
VERSION:2.0
PRODID:-//https://eruuf.org///NONSGML kigkonsult.se iCalcreator 2.10.15//
METHOD:PUBLISH
BEGIN:VEVENT
UID:20260422T114543UTC-9215wiuuLD@https://eruuf.org/
DTSTAMP:20260422T114543Z
DESCRIPTION:{article 2081}[image-fulltext] [text]{/article} https://eruuf.o
 rg/calendar/calendar-view/event/5585-eruuf-visioning-weekend-afternoon-wor
 kshop.html
DTSTART:20181027T170000Z
DTEND:20181027T210000Z
LOCATION:ERUUF Campus   (4907 Garrett Rd\, Durham\, NC 27707    )
SUMMARY:ERUUF Visioning Weekend - Afternoon Workshop
URL:https://eruuf.org/calendar/calendar-view/event/5585-eruuf-visioning-wee
 kend-afternoon-workshop.html
END:VEVENT
END:VCALENDAR
