BEGIN:VCALENDAR
VERSION:2.0
PRODID:-//https://eruuf.org///NONSGML kigkonsult.se iCalcreator 2.10.15//
METHOD:PUBLISH
BEGIN:VEVENT
UID:20260423T012049UTC-32465UfwXh@https://eruuf.org/
DTSTAMP:20260423T012049Z
DESCRIPTION: \nRoots is a brief introduction to Unitarian Universalist idea
 s and history.  Faciltated by Rev. Deborah Cayer.\nThis 90-minute single s
 ession course takes place on a Wednesday evening once in the Fall\, Spring
  and Summer.  All are welcome! Minimum registration: 6 participants.\n \nR
 egister\n\n https://eruuf.org/calendar/calendar-view/event/5589-roots.html
DTSTART:20181107T233000Z
DTEND:20181108T010000Z
LOCATION:Room 4/5   (4907 Garrett Rd\, Durham\, NC 27707   )
SUMMARY:Roots
URL:https://eruuf.org/calendar/calendar-view/event/5589-roots.html
END:VEVENT
END:VCALENDAR
