BEGIN:VCALENDAR
VERSION:2.0
PRODID:-//https://eruuf.org///NONSGML kigkonsult.se iCalcreator 2.10.15//
METHOD:PUBLISH
BEGIN:VEVENT
UID:20260420T202937UTC-6569IjU7Fk@https://eruuf.org/
DTSTAMP:20260420T202937Z
DESCRIPTION:UU Elevator Speech is a 3-session course that guides participan
 ts in developing a short statement about our Unitarian Universalist faith.
  It is called an “elevator speech” because\, on an elevator ride when some
 one asks\, “What is Unitarian Universalism?” you only have a short time to
  make a meaningful statement!\n1. It’s Not a Credo2. Writing Your Elevator
  Speech 3. Sharing Your Elevator Speech\nRegister\n \n  https://eruuf.org/
 calendar/calendar-view/event/5591-uu-elevator-speech.html
DTSTART:20181111T151500Z
DTEND:20181111T160500Z
LOCATION:Room 4/5   (4907 Garrett Rd\, Durham\, NC 27707   )
SUMMARY:UU Elevator Speech
URL:https://eruuf.org/calendar/calendar-view/event/5591-uu-elevator-speech.
 html
END:VEVENT
END:VCALENDAR
