BEGIN:VCALENDAR
VERSION:2.0
PRODID:-//https://eruuf.org///NONSGML kigkonsult.se iCalcreator 2.10.15//
METHOD:PUBLISH
BEGIN:VEVENT
UID:20260421T011040UTC-7997rGnZPL@https://eruuf.org/
DTSTAMP:20260421T011040Z
DESCRIPTION:Dr. Mark Hicks and Rev. Jacqueline Brett will lead a follow-up 
 session to Friday and Saturday's work that will focus on developing on-goi
 ng resources that provide support for People of Color*\, as well as for fa
 milies working to mitigate the impact of racism on their children and yout
 h. Come ready to share your questions\, stories of success as well as your
  frustrations.\nThis session is designed specifically for People of Color\
 , and for families raising children of color and multi-racial children.\nL
 unch included.\nPart of the Weekend with Dr. Mark Hicks\nView All     Regi
 ster now https://eruuf.org/calendar/calendar-view/event/5603-connections-a
 nd-challenges-to-race-spiritual-formation-as-a-family-matter-w-dr-mark-hic
 ks.html
DTSTART:20181021T170000Z
DTEND:20181021T183000Z
LOCATION:Fellowship Hall   ()
SUMMARY:Connections and Challenges to Race & Spiritual Formation as a Famil
 y Matter w Dr. Mark Hicks
URL:https://eruuf.org/calendar/calendar-view/event/5603-connections-and-cha
 llenges-to-race-spiritual-formation-as-a-family-matter-w-dr-mark-hicks.htm
 l
END:VEVENT
END:VCALENDAR
