BEGIN:VCALENDAR
VERSION:2.0
PRODID:-//https://eruuf.org///NONSGML kigkonsult.se iCalcreator 2.10.15//
METHOD:PUBLISH
BEGIN:VEVENT
UID:20260421T042354UTC-4205zIUaV7@https://eruuf.org/
DTSTAMP:20260421T042354Z
DESCRIPTION:HSYG and Advisers will prioritize events and themes for the rem
 ainder of 2018-2019 year. For more information contact:  Allison Mahaley\,
  amahaley@eruuf.org https://eruuf.org/calendar/calendar-view/event/5605-hs
 yg-planning-meeting.html
DTSTART:20181009T223000Z
DTEND:20181010T010000Z
LOCATION:Room 7 - CARE Building ()
SUMMARY:HSYG Planning Meeting
URL:https://eruuf.org/calendar/calendar-view/event/5605-hsyg-planning-meeti
 ng.html
END:VEVENT
END:VCALENDAR
