BEGIN:VCALENDAR
VERSION:2.0
PRODID:-//https://eruuf.org///NONSGML kigkonsult.se iCalcreator 2.10.15//
METHOD:PUBLISH
BEGIN:VEVENT
UID:20260422T092814UTC-9011bd8AKr@https://eruuf.org/
DTSTAMP:20260422T092814Z
DESCRIPTION:Contact Elizabeth Hambourger https://eruuf.org/calendar/calenda
 r-view/event/561-parents-group-advisory-board.html
DTSTART:20160919T230000Z
DTEND:20160920T010000Z
LOCATION:Library - CARE Building ()
SUMMARY:Parents Group Advisory Board
URL:https://eruuf.org/calendar/calendar-view/event/561-parents-group-adviso
 ry-board.html
END:VEVENT
END:VCALENDAR
