BEGIN:VCALENDAR
VERSION:2.0
PRODID:-//https://eruuf.org///NONSGML kigkonsult.se iCalcreator 2.10.15//
METHOD:PUBLISH
BEGIN:VEVENT
UID:20260422T113922UTC-7627fiVm3O@https://eruuf.org/
DTSTAMP:20260422T113922Z
DESCRIPTION:Tickets: $20. Available at coffee hour from Oct. 14 – Dec. 9.Dr
 awing: Dec. 16\, 10:30 am\, Fellowship HallAll proceeds support the ERUUF 
 community.Questions: raffle@eruuf.org\nThe Prizes!\n● Grand Prize: Dinner 
 for two anywhere in the world (maximum $5000 reimbursement*)● 2nd Prize: D
 inner for two anywhere in North Carolina (maximum $500*)● 3rd Prize: Dinne
 r for two within the Triangle (maximum $250*)\n\n \n\nTicket Sales● Begin 
 October 14\, 2018\, end December 9\, 2018\, and are limited to 2500 ticket
 s.● Persons ineligible for prizes are ERUUF’s Raffle team\, ERUUF’s Coordi
 nating Team\, and their immediate households.● Raffle tickets are not cons
 idered a charitable contribution for income tax purposes.\nDrawing Will Be
  During Coffee Hour Between Services on Sunday\, December 16\, 2018 ● Tick
 et holders need not be present to win.● Winners will be notified by phone 
 and/or email as provided on ticket stub.● Winners must use their prize pac
 kage by December 16\, 2019.\nGrand Prize: Dinner for TWO ANYWHERE IN THE W
 ORLD● Round trip coach class airfare for two to any major international ai
 rport● Dinner for two at winner’s restaurant of choice (excluding alcoholi
 c beverages)● Hotel accommodations for two nights● Total package value is 
 not to exceed $5000● The prize does not include alcoholic beverages\, or g
 round transportation● ERUUF is not liable for any loss\, injury\, death\, 
 accident\, theft\, illness or other misfortunes of any nature whatsoever i
 ncurred during the trip or resulting from it\n2nd Prize: Dinner for TWO AN
 YWHERE IN NORTH CAROLINA● Dinner for two at winner’s restaurant of choice 
 (excluding alcoholic beverages)● Hotel accommodations for one night● Total
  package value is not to exceed $500● ERUUF is not liable for any loss\, i
 njury\, death\, accident\, theft\, illness or other misfortunes of any nat
 ure whatsoever incurred during the trip or resulting from it\n3rd Prize: D
 inner for TWO ANYWHERE IN THE TRIANGLE● Dinner for two at winner’s restaur
 ant of choice (excluding alcoholic beverages)● Total package value is not 
 to exceed $250● ERUUF is not liable for any loss\, injury\, death\, accide
 nt\, theft\, illness or other misfortunes of any nature whatsoever incurre
 d during the trip or resulting from it\nAdditional Prizes● Most tickets so
 ld (gift worth $100)● Selling Grand Prize ticket (gift worth $100) https:/
 /eruuf.org/calendar/calendar-view/event/5616-eruuf-raffle-drawing.html
DTSTART:20181216T152000Z
DTEND:20181216T154500Z
LOCATION:Fellowship Hall   ()
SUMMARY:ERUUF Raffle -- Drawing
URL:https://eruuf.org/calendar/calendar-view/event/5616-eruuf-raffle-drawin
 g.html
END:VEVENT
END:VCALENDAR
