BEGIN:VCALENDAR
VERSION:2.0
PRODID:-//https://eruuf.org///NONSGML kigkonsult.se iCalcreator 2.10.15//
METHOD:PUBLISH
BEGIN:VEVENT
UID:20260421T104308UTC-899066cKXZ@https://eruuf.org/
DTSTAMP:20260421T104308Z
DESCRIPTION:HSYG Holiday Lock In. All Youth ages 14-18 are invited to spend
  the night celebrating many holiday traditions.  Parents are invited to he
 lp coordinate food and chaperoning.  For more information contact:  Alliso
 n Mahaley\, amahaley@eruuf.org https://eruuf.org/calendar/calendar-view/ev
 ent/5626-hsyg-holiday-lock-in.html
DTSTART:20181215T210000Z
DTEND:20181216T140000Z
LOCATION:CARE Building   ()
SUMMARY:HSYG Holiday Lock In
URL:https://eruuf.org/calendar/calendar-view/event/5626-hsyg-holiday-lock-i
 n.html
END:VEVENT
END:VCALENDAR
