BEGIN:VCALENDAR
VERSION:2.0
PRODID:-//https://eruuf.org///NONSGML kigkonsult.se iCalcreator 2.10.15//
METHOD:PUBLISH
BEGIN:VEVENT
UID:20260421T024232UTC-1000hGtEI6@https://eruuf.org/
DTSTAMP:20260421T024232Z
DESCRIPTION:Youth Ministry Team will meet to develop a meaningful and lasti
 ng vision for the ERUUF Youth program. For more information contact Alliso
 n Mahaley\, amahaley@eruuf.org  https://eruuf.org/calendar/calendar-view/e
 vent/5627-youth-ministry-team.html
DTSTART:20190202T140000Z
DTEND:20190202T203000Z
LOCATION:Fellowship Hall   ()
SUMMARY:Youth Ministry Team
URL:https://eruuf.org/calendar/calendar-view/event/5627-youth-ministry-team
 .html
END:VEVENT
END:VCALENDAR
