BEGIN:VCALENDAR
VERSION:2.0
PRODID:-//https://eruuf.org///NONSGML kigkonsult.se iCalcreator 2.10.15//
METHOD:PUBLISH
BEGIN:VEVENT
UID:20260422T165722UTC-6023c26BZl@https://eruuf.org/
DTSTAMP:20260422T165722Z
DESCRIPTION:This is the day that we acknowledge and celebrate all the group
 s\, committees\, functions and special events at ERUUF. You will be amazed
  at all the different ways people are a part of ERUUF. Come find out how y
 ou can connect! https://eruuf.org/calendar/calendar-view/event/566-connect
 ions-fair.html
DTSTART:20160918T130000Z
DTEND:20160918T170000Z
LOCATION:ERUUF Campus   (4907 Garrett Rd\, Durham\, NC 27707    )
SUMMARY:Connections Fair
URL:https://eruuf.org/calendar/calendar-view/event/566-connections-fair.htm
 l
END:VEVENT
END:VCALENDAR
