BEGIN:VCALENDAR
VERSION:2.0
PRODID:-//https://eruuf.org///NONSGML kigkonsult.se iCalcreator 2.10.15//
METHOD:PUBLISH
BEGIN:VEVENT
UID:20260423T021211UTC-0121KVOhMw@https://eruuf.org/
DTSTAMP:20260423T021211Z
DESCRIPTION:For more information contact: Dave Chilton\,dave.chilton@yahoo.
 com https://eruuf.org/calendar/calendar-view/event/5663-msyg-middle-school
 -youth-group-lock-in.html
DTSTART:20181109T230000Z
DTEND:20181110T140000Z
LOCATION:CARE Building   ()
SUMMARY:MSYG (Middle School Youth Group) Lock In
URL:https://eruuf.org/calendar/calendar-view/event/5663-msyg-middle-school-
 youth-group-lock-in.html
END:VEVENT
END:VCALENDAR
