BEGIN:VCALENDAR
VERSION:2.0
PRODID:-//https://eruuf.org///NONSGML kigkonsult.se iCalcreator 2.10.15//
METHOD:PUBLISH
BEGIN:VEVENT
UID:20260420T204529UTC-1866jnXAO0@https://eruuf.org/
DTSTAMP:20260420T204529Z
DESCRIPTION:Orientation session for 1st grade OWL parents and students (mus
 t be registered to attend).  For more information contact Jalene Bowersmit
 h\, jalene.bowersmith@gmail.com https://eruuf.org/calendar/calendar-view/e
 vent/5664-1st-grade-owl-orientation.html
DTSTART:20190127T183000Z
DTEND:20190127T203000Z
LOCATION:Room 4/5   (4907 Garrett Rd\, Durham\, NC 27707   )
SUMMARY:1st grade OWL Orientation
URL:https://eruuf.org/calendar/calendar-view/event/5664-1st-grade-owl-orien
 tation.html
END:VEVENT
END:VCALENDAR
