BEGIN:VCALENDAR
VERSION:2.0
PRODID:-//https://eruuf.org///NONSGML kigkonsult.se iCalcreator 2.10.15//
METHOD:PUBLISH
BEGIN:VEVENT
UID:20260421T012225UTC-847774xxNe@https://eruuf.org/
DTSTAMP:20260421T012225Z
DESCRIPTION:1st grade OWL (must be registered to attend).  For more informa
 tion contact Jalene Bowersmith\, jalene.bowersmith@gmail.com https://eruuf
 .org/calendar/calendar-view/event/5665-1st-grade-owl.html
DTSTART:20190203T183000Z
DTEND:20190203T203000Z
LOCATION:Room 15 - CARE Building ()
SUMMARY:1st grade OWL
URL:https://eruuf.org/calendar/calendar-view/event/5665-1st-grade-owl.html
END:VEVENT
END:VCALENDAR
