BEGIN:VCALENDAR
VERSION:2.0
PRODID:-//https://eruuf.org///NONSGML kigkonsult.se iCalcreator 2.10.15//
METHOD:PUBLISH
BEGIN:VEVENT
UID:20260421T232217UTC-1988fK8TZO@https://eruuf.org/
DTSTAMP:20260421T232217Z
DESCRIPTION:1st grade OWL (must be registered to attend).  For more informa
 tion contact Jalene Bowersmith\, jalene.bowersmith@gmail.com https://eruuf
 .org/calendar/calendar-view/event/5666-1st-grade-owl.html
DTSTART:20190210T183000Z
DTEND:20190210T203000Z
LOCATION:Room 15 - CARE Building ()
SUMMARY:1st grade OWL
URL:https://eruuf.org/calendar/calendar-view/event/5666-1st-grade-owl.html
END:VEVENT
END:VCALENDAR
