BEGIN:VCALENDAR
VERSION:2.0
PRODID:-//https://eruuf.org///NONSGML kigkonsult.se iCalcreator 2.10.15//
METHOD:PUBLISH
BEGIN:VEVENT
UID:20260420T232906UTC-1058WoP96r@https://eruuf.org/
DTSTAMP:20260420T232906Z
DESCRIPTION:1st grade OWL (must be registered to attend).  For more informa
 tion contact Jalene Bowersmith\, jalene.bowersmith@gmail.com https://eruuf
 .org/calendar/calendar-view/event/5670-1st-grade-owl.html
DTSTART:20190310T173000Z
DTEND:20190310T193000Z
LOCATION:Room 15 - CARE Building ()
SUMMARY:1st grade OWL
URL:https://eruuf.org/calendar/calendar-view/event/5670-1st-grade-owl.html
END:VEVENT
END:VCALENDAR
