BEGIN:VCALENDAR
VERSION:2.0
PRODID:-//https://eruuf.org///NONSGML kigkonsult.se iCalcreator 2.10.15//
METHOD:PUBLISH
BEGIN:VEVENT
UID:20260422T095434UTC-5010kBU6gh@https://eruuf.org/
DTSTAMP:20260422T095434Z
DESCRIPTION:Contact Simon Kaplan https://eruuf.org/calendar/calendar-view/e
 vent/568-nominating-committee.html
DTSTART:20160915T224500Z
DTEND:20160916T010000Z
LOCATION:Room 1 - CARE Building ()
SUMMARY:Nominating Committee
URL:https://eruuf.org/calendar/calendar-view/event/568-nominating-committee
 .html
END:VEVENT
END:VCALENDAR
