BEGIN:VCALENDAR
VERSION:2.0
PRODID:-//https://eruuf.org///NONSGML kigkonsult.se iCalcreator 2.10.15//
METHOD:PUBLISH
BEGIN:VEVENT
UID:20260420T152727UTC-22662cwdkA@https://eruuf.org/
DTSTAMP:20260420T152727Z
DESCRIPTION:Marsha Scherubel and Mary Davis\, long-time experienced religio
 us educators\, are facilitating space for R.E. Teachers between services o
 n 11/11 and 11/18 to share joys\, concerns\, feelings\, needs as Religious
  Educators. We want to hear your R.E. stories\, questions\, and be of supp
 ort.  For more information contact Julia Tyler\, jtler@eruuf.org. https://
 eruuf.org/calendar/calendar-view/event/5685-eruuf-teacher-s-cafe.html
DTSTART:20181111T151500Z
DTEND:20181111T160000Z
LOCATION:Library - CARE Building ()
SUMMARY:ERUUF Teacher's Cafe
URL:https://eruuf.org/calendar/calendar-view/event/5685-eruuf-teacher-s-caf
 e.html
END:VEVENT
END:VCALENDAR
