BEGIN:VCALENDAR
VERSION:2.0
PRODID:-//https://eruuf.org///NONSGML kigkonsult.se iCalcreator 2.10.15//
METHOD:PUBLISH
BEGIN:VEVENT
UID:20260420T190840UTC-9762Dnd0xV@https://eruuf.org/
DTSTAMP:20260420T190840Z
DESCRIPTION:Come celebrate the longest night of the year & the return of th
 e light! For more information contact Julia Tyler\, jtyler@eruuf.org. http
 s://eruuf.org/calendar/calendar-view/event/5694-winter-solstice-celebratio
 n.html
DTSTART:20181222T000000Z
DTEND:20181222T013000Z
LOCATION:Sanctuary - ERUUF   (4907 Garrett Road\, Durham\, NC 27707  )
SUMMARY:Winter Solstice Celebration
URL:https://eruuf.org/calendar/calendar-view/event/5694-winter-solstice-cel
 ebration.html
END:VEVENT
END:VCALENDAR
