BEGIN:VCALENDAR
VERSION:2.0
PRODID:-//https://eruuf.org///NONSGML kigkonsult.se iCalcreator 2.10.15//
METHOD:PUBLISH
BEGIN:VEVENT
UID:20260422T005754UTC-8156kUSURb@https://eruuf.org/
DTSTAMP:20260422T005754Z
DESCRIPTION: https://eruuf.org/calendar/calendar-view/event/5695-re-sock-ho
 p.html
DTSTART:20181202T140000Z
DTEND:20181202T171500Z
LOCATION:Commons Room   (4907 Garrett Rd\, Durham\, NC 27707  )
SUMMARY:RE Sock Hop
URL:https://eruuf.org/calendar/calendar-view/event/5695-re-sock-hop.html
END:VEVENT
END:VCALENDAR
