BEGIN:VCALENDAR
VERSION:2.0
PRODID:-//https://eruuf.org///NONSGML kigkonsult.se iCalcreator 2.10.15//
METHOD:PUBLISH
BEGIN:VEVENT
UID:20260422T154255UTC-2553phMV6G@https://eruuf.org/
DTSTAMP:20260422T154255Z
DESCRIPTION:Jazz vespers for the holidays reception. https://eruuf.org/cale
 ndar/calendar-view/event/5696-reception-after-jazz-vespers.html
DTSTART:20181213T010000Z
DTEND:20181213T020000Z
LOCATION:Fellowship Hall   ()
SUMMARY:Reception after Jazz Vespers
URL:https://eruuf.org/calendar/calendar-view/event/5696-reception-after-jaz
 z-vespers.html
END:VEVENT
END:VCALENDAR
