BEGIN:VCALENDAR
VERSION:2.0
PRODID:-//https://eruuf.org///NONSGML kigkonsult.se iCalcreator 2.10.15//
METHOD:PUBLISH
BEGIN:VEVENT
UID:20260420T232154UTC-6063bsaxfX@https://eruuf.org/
DTSTAMP:20260420T232154Z
DESCRIPTION: https://eruuf.org/calendar/calendar-view/event/5697-re-thanks-
 giving.html
DTSTART:20181125T140000Z
DTEND:20181125T171500Z
LOCATION:Room 4/5   (4907 Garrett Rd\, Durham\, NC 27707   )
SUMMARY:RE Thanks-Giving
URL:https://eruuf.org/calendar/calendar-view/event/5697-re-thanks-giving.ht
 ml
END:VEVENT
END:VCALENDAR
