BEGIN:VCALENDAR
VERSION:2.0
PRODID:-//https://eruuf.org///NONSGML kigkonsult.se iCalcreator 2.10.15//
METHOD:PUBLISH
BEGIN:VEVENT
UID:20260421T155142UTC-5831vUKupD@https://eruuf.org/
DTSTAMP:20260421T155142Z
DESCRIPTION:HSYG & COA will be selling poinsettias in the Fellowship Hall a
 fter both services to benefit the Youth Scholarship Fund. https://eruuf.or
 g/calendar/calendar-view/event/5698-re-poinsettia-sale.html
DTSTART;VALUE=DATE:20191208
LOCATION:Fellowship Hall   ()
SUMMARY:RE Poinsettia Sale
URL:https://eruuf.org/calendar/calendar-view/event/5698-re-poinsettia-sale.
 html
END:VEVENT
END:VCALENDAR
