BEGIN:VCALENDAR
VERSION:2.0
PRODID:-//https://eruuf.org///NONSGML kigkonsult.se iCalcreator 2.10.15//
METHOD:PUBLISH
BEGIN:VEVENT
UID:20260420T172743UTC-91761O02aB@https://eruuf.org/
DTSTAMP:20260420T172743Z
DESCRIPTION:PreK-12th Grade will talk about “holiday spirit” and make cooki
 es for the Urban Ministries dinner. Donations of pre-made cookie dough for
  cutout cookies are needed. Please bring in labeled cookie sheets\, rollin
 g pins\, and cookie cutters for use that day if you are able. Sign-up: htt
 p://bit.ly/REcookies https://eruuf.org/calendar/calendar-view/event/5699-r
 e-cookie-baking.html
DTSTART:20181209T140000Z
DTEND:20181209T171500Z
LOCATION:Commons Room   (4907 Garrett Rd\, Durham\, NC 27707  )
SUMMARY:RE Cookie Baking
URL:https://eruuf.org/calendar/calendar-view/event/5699-re-cookie-baking.ht
 ml
END:VEVENT
END:VCALENDAR
