BEGIN:VCALENDAR
VERSION:2.0
PRODID:-//https://eruuf.org///NONSGML kigkonsult.se iCalcreator 2.10.15//
METHOD:PUBLISH
BEGIN:VEVENT
UID:20260419T212340UTC-7438As0HNH@https://eruuf.org/
DTSTAMP:20260419T212340Z
DESCRIPTION:Monthly classes for new members interested in building relation
 ships while exploring what’s happening at ERUUF. Gather each month to lear
 n about a ministry\, participate in its activities\, and reflect in small 
 groups on your observations and experiences. Long-term members welcome! To
  register\, http://tinyurl.com/Cov-Community2016.  Contact Jacqueline Bret
 t\,jbrett@eruuf.org for more information.  https://eruuf.org/calendar/cale
 ndar-view/event/570-covenant-and-community-class-cancelled.html
DTSTART:20160914T230000Z
DTEND:20160915T000000Z
LOCATION:Fellowship Hall   ()
SUMMARY:Covenant and Community Class - CANCELLED
URL:https://eruuf.org/calendar/calendar-view/event/570-covenant-and-communi
 ty-class-cancelled.html
END:VEVENT
END:VCALENDAR
