BEGIN:VCALENDAR
VERSION:2.0
PRODID:-//https://eruuf.org///NONSGML kigkonsult.se iCalcreator 2.10.15//
METHOD:PUBLISH
BEGIN:VEVENT
UID:20260421T005149UTC-3121XVVGXJ@https://eruuf.org/
DTSTAMP:20260421T005149Z
DESCRIPTION:Please contact Paul Baerman for additional info on this event. 
 pb@paulbaerman.net https://eruuf.org/calendar/calendar-view/event/5707-pag
 eant-role-casting.html
DTSTART:20181209T153000Z
DTEND:20181209T183000Z
LOCATION:Room 2 and Room 3 - CARE Building (4907 Garrett Rd\, Durham\, NC 2
 7707\, USA)
SUMMARY:Pageant Role Casting
URL:https://eruuf.org/calendar/calendar-view/event/5707-pageant-role-castin
 g.html
END:VEVENT
END:VCALENDAR
