BEGIN:VCALENDAR
VERSION:2.0
PRODID:-//https://eruuf.org///NONSGML kigkonsult.se iCalcreator 2.10.15//
METHOD:PUBLISH
BEGIN:VEVENT
UID:20260423T123312UTC-8294zIP3Df@https://eruuf.org/
DTSTAMP:20260423T123312Z
DESCRIPTION:Are you looking for ways to put your anti-racism\, multi-cultur
 al commitment into action? On Monday\, September 12\, ERUUF will host a Yo
 u Can Vote training.  Learn the correct way to do voter registration\; acc
 urate information about NC voting laws\; and how to help get people to the
  polls. No need to register for this training—just show up! And check out 
 YouCanVote.org for more trainings if this one doesn’t work for you. This i
 s one way to put your commitment to racial equity and inclusion into timel
 y (and time urgent) action! https://eruuf.org/calendar/calendar-view/event
 /571-voter-registration-training.html
DTSTART:20160912T230000Z
DTEND:20160913T003000Z
LOCATION:Commons Room   (4907 Garrett Rd\, Durham\, NC 27707  )
SUMMARY:Voter Registration Training
URL:https://eruuf.org/calendar/calendar-view/event/571-voter-registration-t
 raining.html
END:VEVENT
END:VCALENDAR
