BEGIN:VCALENDAR
VERSION:2.0
PRODID:-//https://eruuf.org///NONSGML kigkonsult.se iCalcreator 2.10.15//
METHOD:PUBLISH
BEGIN:VEVENT
UID:20260422T021937UTC-7692BVtB5C@https://eruuf.org/
DTSTAMP:20260422T021937Z
DESCRIPTION: https://eruuf.org/calendar/calendar-view/event/5716-office-clo
 sed.html
DTSTART:20181231T050000Z
DTEND:20190101T165600Z
LOCATION:ERUUF Campus   (4907 Garrett Rd\, Durham\, NC 27707    )
SUMMARY:Office Closed
URL:https://eruuf.org/calendar/calendar-view/event/5716-office-closed.html
END:VEVENT
END:VCALENDAR
