BEGIN:VCALENDAR
VERSION:2.0
PRODID:-//https://eruuf.org///NONSGML kigkonsult.se iCalcreator 2.10.15//
METHOD:PUBLISH
BEGIN:VEVENT
UID:20260426T000830UTC-4769DNUX3O@https://eruuf.org/
DTSTAMP:20260426T000830Z
DESCRIPTION: https://eruuf.org/calendar/calendar-view/event/5717-office-clo
 sed-tuesday-jan-1.html
DTSTART;VALUE=DATE:20190101
LOCATION:ERUUF Campus   (4907 Garrett Rd\, Durham\, NC 27707    )
SUMMARY:Office Closed Tuesday\, Jan. 1
URL:https://eruuf.org/calendar/calendar-view/event/5717-office-closed-tuesd
 ay-jan-1.html
END:VEVENT
END:VCALENDAR
