BEGIN:VCALENDAR
VERSION:2.0
PRODID:-//https://eruuf.org///NONSGML kigkonsult.se iCalcreator 2.10.15//
METHOD:PUBLISH
BEGIN:VEVENT
UID:20260424T194229UTC-52470BUKgH@https://eruuf.org/
DTSTAMP:20260424T194229Z
DESCRIPTION:An overview of Unitarian Universalist ideas and history. Roots 
 is a 90-minute single session course geared toward new members and facilit
 ated by Rev. Deborah Cayer. All are welcome! Minimum registration: 6 parti
 cipants. Courses take place on a Wednesday evening once in the spring\, su
 mmer\, and fall.  \nRegister\n\n https://eruuf.org/calendar/calendar-view/
 event/5726-roots.html
DTSTART:20190206T233000Z
DTEND:20190207T010000Z
LOCATION:ERUUF Campus   (4907 Garrett Rd\, Durham\, NC 27707    )
SUMMARY:Roots
URL:https://eruuf.org/calendar/calendar-view/event/5726-roots.html
END:VEVENT
END:VCALENDAR
