BEGIN:VCALENDAR
VERSION:2.0
PRODID:-//https://eruuf.org///NONSGML kigkonsult.se iCalcreator 2.10.15//
METHOD:PUBLISH
BEGIN:VEVENT
UID:20260421T023950UTC-3469WOXhvv@https://eruuf.org/
DTSTAMP:20260421T023950Z
DESCRIPTION:HSYG would like to serve ERUUF by cooking them a delicious panc
 ake breakfast before and during coffee hour. We will provide gluten-free o
 ptions as well. For more information contact\, Allison Mahaley\, amahaley@
 eruuf.org. https://eruuf.org/calendar/calendar-view/event/5729-hsyg-pancak
 e-breakfast.html
DTSTART:20190317T141500Z
DTEND:20190317T170000Z
LOCATION:Fellowship Hall   ()
SUMMARY:HSYG Pancake Breakfast
URL:https://eruuf.org/calendar/calendar-view/event/5729-hsyg-pancake-breakf
 ast.html
END:VEVENT
END:VCALENDAR
