BEGIN:VCALENDAR
VERSION:2.0
PRODID:-//https://eruuf.org///NONSGML kigkonsult.se iCalcreator 2.10.15//
METHOD:PUBLISH
BEGIN:VEVENT
UID:20260420T121147UTC-4598m3Zt6v@https://eruuf.org/
DTSTAMP:20260420T121147Z
DESCRIPTION: https://eruuf.org/calendar/calendar-view/event/5743-parenting-
 teens.html
DTSTART:20190428T141500Z
DTEND:20190428T153000Z
LOCATION:Library - CARE Building ()
SUMMARY:Parenting Teens
URL:https://eruuf.org/calendar/calendar-view/event/5743-parenting-teens.htm
 l
END:VEVENT
END:VCALENDAR
