BEGIN:VCALENDAR
VERSION:2.0
PRODID:-//https://eruuf.org///NONSGML kigkonsult.se iCalcreator 2.10.15//
METHOD:PUBLISH
BEGIN:VEVENT
UID:20260425T214212UTC-8702AuoauW@https://eruuf.org/
DTSTAMP:20260425T214212Z
DESCRIPTION:Beyond Inquirers is a 4-session course that goes deeper in addr
 essing commonly asked questions among new members. Facilitated by Rev. Jac
 queline Brett\, it takes place once in the Fall\, Spring\, and Summer.\n1.
  What Do UUs Believe?2. Is This a New Religion?3. How Do We ‘Do Church’?4.
  How Do We Live Our Values?\n Register\n \n\n https://eruuf.org/calendar/c
 alendar-view/event/5747-beyond-inquirers-class.html
DTSTART:20190220T233000Z
DTEND:20190221T003000Z
LOCATION:Room 4/5   (4907 Garrett Rd\, Durham\, NC 27707   )
SUMMARY:Beyond Inquirers Class
URL:https://eruuf.org/calendar/calendar-view/event/5747-beyond-inquirers-cl
 ass.html
END:VEVENT
END:VCALENDAR
