BEGIN:VCALENDAR
VERSION:2.0
PRODID:-//https://eruuf.org///NONSGML kigkonsult.se iCalcreator 2.10.15//
METHOD:PUBLISH
BEGIN:VEVENT
UID:20260422T151907UTC-3319oUZILV@https://eruuf.org/
DTSTAMP:20260422T151907Z
DESCRIPTION:The ERUUF Players\, ERUUF's own drama troupe\, is proud to pres
 ent an 'Evening of Drama and Music'. We will offer eight\, one-act plays t
 o touch your heart as well as your funny bone. Music to accompany the them
 es of the plays will be provided by pianist Don Hartmann. Free admission. 
 For more information\, contact Gerda Presson.  https://eruuf.org/calendar/
 calendar-view/event/5752-evening-of-drama-and-music-eruuf-players.html
DTSTART:20190330T233000Z
DTEND:20190331T013000Z
LOCATION:ERUUF Fellowship Hall (4907 Garrett Road)
SUMMARY:Evening of Drama and Music - ERUUF Players
URL:https://eruuf.org/calendar/calendar-view/event/5752-evening-of-drama-an
 d-music-eruuf-players.html
END:VEVENT
END:VCALENDAR
