BEGIN:VCALENDAR
VERSION:2.0
PRODID:-//https://eruuf.org///NONSGML kigkonsult.se iCalcreator 2.10.15//
METHOD:PUBLISH
BEGIN:VEVENT
UID:20260424T222259UTC-3376vGzVxA@https://eruuf.org/
DTSTAMP:20260424T222259Z
DESCRIPTION:PRIDE+ party! \; If you are gay\, a little gay\, kind of queer\
 , consider yourself part of the LGBTQ+ community or have a friend that is\
 , come join us for a night of eating\, (bring a dish\, preferably with foo
 d in it\, if you can\, but come either way!) singing and dancing. Do one o
 r all\, but come have fun! Bring the kiddo's too! We will eat at 5:30\, si
 nging and dancing may be before\, during and/or after! For more informatio
 n contact Jennifer Greenleaf\, jennleaf@gmail.com. https://eruuf.org/calen
 dar/calendar-view/event/5753-pride-party.html
DTSTART:20190323T210000Z
DTEND:20190324T020000Z
LOCATION:ERUUF Fellowship Hall (4907 Garrett Road)
SUMMARY:PRIDE+ Party
URL:https://eruuf.org/calendar/calendar-view/event/5753-pride-party.html
END:VEVENT
END:VCALENDAR
