BEGIN:VCALENDAR
VERSION:2.0
PRODID:-//https://eruuf.org///NONSGML kigkonsult.se iCalcreator 2.10.15//
METHOD:PUBLISH
BEGIN:VEVENT
UID:20260421T063915UTC-7085S5icoP@https://eruuf.org/
DTSTAMP:20260421T063915Z
DESCRIPTION:Join ERUUF's Youth Ministry Team\, the High School Youth Group\
 , parents\, advisers\, and supporters for an interactive Visioning Retreat
  designed to help us grow young together! In this 2 hour session\, you'll 
 hear from youth about what they need and want from ERUUF\, and about the g
 ifts they bring to our diverse\, intergenerational fellowship. You'll have
  the opportunity to participate in shared goals of:\n\nCreating a more you
 thful ERUUF for everyone\nIncreasing the visibility and needs of youth amo
 ng the whole congregation\nExpanding conversations across the ages\nExpand
 ing transformational experiences across the ages\nGaining a deeper appreci
 ation of the Pillars of Youth Ministry: Place for Community and Fellowship
 \; Faith Formation\; Structure for Service and Justice Work\n\n A Mexican 
 buffet-style lunch will be provided and childcare is available. Please ind
 icate your preferences on the registration form. Everyone is welcome to at
 tend. Youth over 11 are highly encouraged to attend. We look forward to se
 eing you there!\n Register\n https://eruuf.org/calendar/calendar-view/even
 t/5755-2019-youth-visioning-retreat.html
DTSTART:20190217T180000Z
DTEND:20190217T200000Z
LOCATION:Fellowship Hall   ()
SUMMARY:2019 Youth Visioning Retreat
URL:https://eruuf.org/calendar/calendar-view/event/5755-2019-youth-visionin
 g-retreat.html
END:VEVENT
END:VCALENDAR
