BEGIN:VCALENDAR
VERSION:2.0
PRODID:-//https://eruuf.org///NONSGML kigkonsult.se iCalcreator 2.10.15//
METHOD:PUBLISH
BEGIN:VEVENT
UID:20260424T162025UTC-8483BNlxA6@https://eruuf.org/
DTSTAMP:20260424T162025Z
DESCRIPTION:All ERUUFians are invited to this locally catered plant-based f
 east to celebrate Earth Day\, the culmination of our Common Read\, our ann
 ual Plant-Based Diet Week\, and Earth-Climate Justice Month. We'll enjoy f
 ellowship\, listen to music\, eat delicious food\, and share stories about
  what we learned during the month\, some of which will be videotaped. Even
 t contacts\, Denise Frizzell\, Jonathan Sheline. For food planning\, pleas
 e register by Monday\, April 22\, 2019. \nPLEASE NOTE: The registration de
 adline for this event has passed\, however\, you may still register and at
 tend this event but please wait for those who registered by the deadline t
 o serve themselves. Thanks for your cooperation. \nRegister\n \nSee all Ea
 rth and Climate Justice Month activities >> https://eruuf.org/calendar/cal
 endar-view/event/5786-earth-climate-justice-month-earth-day-celebratory-fe
 ast.html
DTSTART:20190428T170000Z
DTEND:20190428T190000Z
LOCATION:ERUUF Fellowship Hall (4907 Garrett Road)
SUMMARY:Earth & Climate Justice Month: Earth Day Celebratory Feast
URL:https://eruuf.org/calendar/calendar-view/event/5786-earth-climate-justi
 ce-month-earth-day-celebratory-feast.html
END:VEVENT
END:VCALENDAR
