BEGIN:VCALENDAR
VERSION:2.0
PRODID:-//https://eruuf.org///NONSGML kigkonsult.se iCalcreator 2.10.15//
METHOD:PUBLISH
BEGIN:VEVENT
UID:20260424T012312UTC-0283ClSnmC@https://eruuf.org/
DTSTAMP:20260424T012312Z
DESCRIPTION:We are excited to announce that this year the spring camping tr
 ip will be at Jordan Lake! We have reserved two group sites at Parkers Cre
 ek in Jordan Lake and can accommodate up to 70 people. For more informatio
 n please email Mel Downey-Piper at mel.downeypiper@gmail.com or register y
 our familyat http://bit.ly/ERUUFCAMP18 https://eruuf.org/calendar/calendar
 -view/event/58-parent-s-group-spring-camping-trip.html
DTSTART;VALUE=DATE:20180526
LOCATION:Jordan Lake (Jordan Lake\, North Carolina\, USA)
SUMMARY:Parent's Group Spring Camping Trip
URL:https://eruuf.org/calendar/calendar-view/event/58-parent-s-group-spring
 -camping-trip.html
END:VEVENT
END:VCALENDAR
