BEGIN:VCALENDAR
VERSION:2.0
PRODID:-//https://eruuf.org///NONSGML kigkonsult.se iCalcreator 2.10.15//
METHOD:PUBLISH
BEGIN:VEVENT
UID:20260420T101116UTC-3957TSsWWU@https://eruuf.org/
DTSTAMP:20260420T101116Z
DESCRIPTION:For all friends\, visitors or guests who want to know more abou
 t ERUUF and Unitarian Universalism.  Contact Jacqueline Brett https://eruu
 f.org/calendar/calendar-view/event/581-newcomer-orientation.html
DTSTART:20160911T163000Z
DTEND:20160911T170000Z
LOCATION:Chapel   ()
SUMMARY:Newcomer Orientation
URL:https://eruuf.org/calendar/calendar-view/event/581-newcomer-orientation
 .html
END:VEVENT
END:VCALENDAR
