BEGIN:VCALENDAR
VERSION:2.0
PRODID:-//https://eruuf.org///NONSGML kigkonsult.se iCalcreator 2.10.15//
METHOD:PUBLISH
BEGIN:VEVENT
UID:20260424T015522UTC-9510WRiGrZ@https://eruuf.org/
DTSTAMP:20260424T015522Z
DESCRIPTION:Unitarian Universalists will gather in Raleigh for Justice on J
 ones Street--the UU Justice Ministry of North Carolina's first annual day 
 of lobbying and advocacy at the North Carolina General Assembly.It's time 
 once again to give life the shape of justice by showing up and letting our
  elected state Senators and Representatives hear the voices of Unitarian U
 niversalists on important public issues including voting rights\, public e
 ducation\, gun violence\, the environment\, and health care.Can we count o
 n you?Please register now to be a citizen lobbyist with Justice on Jones S
 treet on Tuesday\, May 22\, 2018.We'll gather between 9:00 and 9:30 am at 
 Raleigh First Baptist Church (101 South Wilmington Street)\, learn a littl
 e bit about the legislative process\, how to talk with legislators\, and s
 ome of the issues that may be considered during the 2018 legislative sessi
 on\, and then spend some time talking with our elected legislators about t
 hose issues. More information is posted on the Forward Together website an
 d you can email if you have questions or need more information.And if you 
 want to be a citizen lobbyist on May 22 but can't come to Raleigh\, we'll 
 post information on our website so you can call or email your legislators 
 from home on May 22nd.Forward Together!!! https://eruuf.org/calendar/calen
 dar-view/event/59-justice-on-jones-street-lobbying-day.html
DTSTART;VALUE=DATE:20180522
LOCATION:Raleigh First Baptist Church (101 S Wilmington St\, Raleigh\, NC 2
 7601\, USA)
SUMMARY:Justice on Jones Street Lobbying Day
URL:https://eruuf.org/calendar/calendar-view/event/59-justice-on-jones-stre
 et-lobbying-day.html
END:VEVENT
END:VCALENDAR
