BEGIN:VCALENDAR
VERSION:2.0
PRODID:-//https://eruuf.org///NONSGML kigkonsult.se iCalcreator 2.10.15//
METHOD:PUBLISH
BEGIN:VEVENT
UID:20260424T095014UTC-4880uvhg8V@https://eruuf.org/
DTSTAMP:20260424T095014Z
DESCRIPTION:Four Sundays in August 7\, 14\, 21\, 28.  In this interactive c
 lass\, participants will follow prompts to write and reflect on their memo
 ries. There will be sharing (as much as you choose) in pairs. At the end o
 f the four sessions\, we’ll schedule times to listen to one another’s spir
 itual journeys. If you’ve enjoyed this summer’s Sunday morning Spiritual O
 dysseys by fellow ERUUFIANs\, this is an opportunity to create your own. R
 ev. Cayer and Rev. Kacela\, leaders. https://eruuf.org/calendar/calendar-v
 iew/event/598-writing-your-spiritual-autobiography.html
DTSTART:20160828T160000Z
DTEND:20160828T173000Z
LOCATION:Room 7 - CARE Building ()
SUMMARY:Writing Your Spiritual Autobiography
URL:https://eruuf.org/calendar/calendar-view/event/598-writing-your-spiritu
 al-autobiography.html
END:VEVENT
END:VCALENDAR
