BEGIN:VCALENDAR
VERSION:2.0
PRODID:-//https://eruuf.org///NONSGML kigkonsult.se iCalcreator 2.10.15//
METHOD:PUBLISH
BEGIN:VEVENT
UID:20260423T191907UTC-8555UVd8dU@https://eruuf.org/
DTSTAMP:20260423T191907Z
DESCRIPTION:Jazz Vespers is a collaborative worship service between the Eno
  River Unitarian Universalist Fellowship and North Carolina Central Univer
 sity's Jazz Studies program! Join us at Hayti Heritage Center's Historic S
 t. Joseph's Performance Hall on Saturday\, March 2 for a night of music an
 d fellowship. All are welcome to this FREE event. Learn more about Jazz Ve
 spers here. \n---\nThe Hayti Heritage Center is located at the corner of F
 ayetteville Street and Lakewood Avenue\, only 2 minutes from downtown Durh
 am\,  blocks from North Carolina Central University\, and just off of the 
 Durham Freeway (Hwy. 147).\nParking is available on the premises\, at Phoe
 nix Square\, Heritage Square Shopping Center\, and on adjacent streets. ht
 tps://eruuf.org/calendar/calendar-view/event/5991-jazz-vespers-at-hayti-he
 ritage-center.html
DTSTART:20190302T210000Z
DTEND:20190302T230000Z
LOCATION:Historic St. Joseph's Performance Hall at Hayti Heritage Center (8
 04 Old Fayetteville St\, Durham\, NC 27701)
SUMMARY:Jazz Vespers at Hayti Heritage Center
URL:https://eruuf.org/calendar/calendar-view/event/5991-jazz-vespers-at-hay
 ti-heritage-center.html
END:VEVENT
END:VCALENDAR
