BEGIN:VCALENDAR
VERSION:2.0
PRODID:-//https://eruuf.org///NONSGML kigkonsult.se iCalcreator 2.10.15//
METHOD:PUBLISH
BEGIN:VEVENT
UID:20260424T170602UTC-0484hrtLmL@https://eruuf.org/
DTSTAMP:20260424T170602Z
DESCRIPTION:Plant based potluck and Film: Demain (Tomorrow) Filmmakers Méla
 nie Laurent and Cyril Dion travel worldwide to investigate concrete soluti
 ons to environmental and social challenges.\nFor more information contact 
 Betsy Bickel\, betsybickel@gmail.com https://eruuf.org/calendar/calendar-v
 iew/event/5997-earth-justice-potluck-film.html
DTSTART:20190308T230000Z
DTEND:20190309T013000Z
LOCATION:Fellowship Hall   ()
SUMMARY:Earth Justice Potluck/Film
URL:https://eruuf.org/calendar/calendar-view/event/5997-earth-justice-potlu
 ck-film.html
END:VEVENT
END:VCALENDAR
