BEGIN:VCALENDAR
VERSION:2.0
PRODID:-//https://eruuf.org///NONSGML kigkonsult.se iCalcreator 2.10.15//
METHOD:PUBLISH
BEGIN:VEVENT
UID:20260425T221316UTC-6642Swhh5R@https://eruuf.org/
DTSTAMP:20260425T221316Z
DESCRIPTION: \n\nThis 4-hour Pachamama Alliance symposium provides a multi-
 media experience that inspires participants to stand for an entirely new p
 ossibility for our future —an environmentally sustainable\, spiritually fu
 lfilling and socially just human presence on this planet! It includes shor
 t videos and talks\, and group and individual exercises. Facilitated by Be
 tsy Bickel and Albert Hardy. Please register by March 31\, 2019. \n \nRegi
 ster\n \nSee all Earth & Climate Justice Month activities >> https://eruuf
 .org/calendar/calendar-view/event/6003-earth-climate-justice-month-awakeni
 ng-the-dreamer-changing-the-dream.html
DTSTART:20190406T170000Z
DTEND:20190406T210000Z
LOCATION:Commons Room   (4907 Garrett Rd\, Durham\, NC 27707  )
SUMMARY:Earth & Climate Justice Month: Awakening the Dreamer\, Changing the
  Dream 
URL:https://eruuf.org/calendar/calendar-view/event/6003-earth-climate-justi
 ce-month-awakening-the-dreamer-changing-the-dream.html
END:VEVENT
END:VCALENDAR
