BEGIN:VCALENDAR
VERSION:2.0
PRODID:-//https://eruuf.org///NONSGML kigkonsult.se iCalcreator 2.10.15//
METHOD:PUBLISH
BEGIN:VEVENT
UID:20260421T010731UTC-7422c1XBDA@https://eruuf.org/
DTSTAMP:20260421T010731Z
DESCRIPTION:All youth\, aged 11-25 are invited for a Youthful celebration o
 f UU worship and action.  For more information contact Allison Mahaley\, a
 mahaley@eruuf.org. https://eruuf.org/calendar/calendar-view/event/6008-you
 th-lock-in.html
DTSTART:20190524T210000Z
DTEND:20190525T160000Z
LOCATION:CARE Building   ()
SUMMARY:Youth Lock In
URL:https://eruuf.org/calendar/calendar-view/event/6008-youth-lock-in.html
END:VEVENT
END:VCALENDAR
