BEGIN:VCALENDAR
VERSION:2.0
PRODID:-//https://eruuf.org///NONSGML kigkonsult.se iCalcreator 2.10.15//
METHOD:PUBLISH
BEGIN:VEVENT
UID:20260420T210951UTC-229306uu3n@https://eruuf.org/
DTSTAMP:20260420T210951Z
DESCRIPTION:Change Team meeting. Contact Diane Blount https://eruuf.org/cal
 endar/calendar-view/event/601-change-team.html
DTSTART:20160825T230000Z
DTEND:20160826T010000Z
LOCATION:Commons Room   (4907 Garrett Rd\, Durham\, NC 27707  )
SUMMARY:Change Team
URL:https://eruuf.org/calendar/calendar-view/event/601-change-team.html
END:VEVENT
END:VCALENDAR
