BEGIN:VCALENDAR
VERSION:2.0
PRODID:-//https://eruuf.org///NONSGML kigkonsult.se iCalcreator 2.10.15//
METHOD:PUBLISH
BEGIN:VEVENT
UID:20260425T132236UTC-0184MZ4V6o@https://eruuf.org/
DTSTAMP:20260425T132236Z
DESCRIPTION:\nPlant-Based in Practice with Christine Frost and Angie Ceroli
 \nInterested in learning more about how to cook for a healthy\, earth-frie
 ndly lifestyle? If so\, please join Christine and Angie for their how-to p
 resentation which includes a food demo and samples! Event contact: Christi
 ne Frost\, ckfrost@gmail.com. Please register by April 22\, 2019.\n \nRegi
 ster\n \nSee all Earth & Climate Justice Month activities >> https://eruuf
 .org/calendar/calendar-view/event/6010-talk-demo-plant-based-in-practice.h
 tml
DTSTART:20190424T230000Z
DTEND:20190425T000000Z
LOCATION:Fellowship Hall   ()
SUMMARY:Talk & Demo: Plant-Based in Practice 
URL:https://eruuf.org/calendar/calendar-view/event/6010-talk-demo-plant-bas
 ed-in-practice.html
END:VEVENT
END:VCALENDAR
